BEGIN:VCALENDAR
VERSION:2.0
PRODID:-//Tukios.com/
BEGIN:VEVENT
UID:2ced57b8-48db-49a7-8a9b-986e8eeef8f0@www.bullochfuneral.com
DTSTAMP:20260422T093632Z
DTSTART:20260425T150000Z
DTEND:20260425T160000Z
SUMMARY:Memorial Service
DESCRIPTION:
URL:https://www.bullochfuneral.com/obituaries/marion-robinson
LOCATION:Macedonia Baptist Church 1992 Macedonia Road  Statesboro GA 
	30461
GEO:32.5105084;-81.659249
END:VEVENT
END:VCALENDAR