BEGIN:VCALENDAR
VERSION:2.0
PRODID:-//Tukios.com/
BEGIN:VEVENT
UID:f724e76b-eb28-4e26-a926-5e9126dde125@www.bullochfuneral.com
DTSTAMP:20260422T094055Z
DTSTART:20260425T140000Z
DTEND:20260425T150000Z
SUMMARY:Visitation
DESCRIPTION:
URL:https://www.bullochfuneral.com/obituaries/marion-robinson
LOCATION:Macedonia Baptist Church 1992 Macedonia Road  Statesboro GA 
	30461
GEO:32.5105084;-81.659249
END:VEVENT
END:VCALENDAR